BEGIN:VCALENDAR
VERSION:2.0
PRODID:-//Ideentasche - ECPv6.15.20//NONSGML v1.0//EN
CALSCALE:GREGORIAN
METHOD:PUBLISH
X-ORIGINAL-URL:https://ideentasche.de
X-WR-CALDESC:Veranstaltungen für Ideentasche
REFRESH-INTERVAL;VALUE=DURATION:PT1H
X-Robots-Tag:noindex
X-PUBLISHED-TTL:PT1H
BEGIN:VTIMEZONE
TZID:Europe/Berlin
BEGIN:DAYLIGHT
TZOFFSETFROM:+0100
TZOFFSETTO:+0200
TZNAME:CEST
DTSTART:20250330T010000
END:DAYLIGHT
BEGIN:STANDARD
TZOFFSETFROM:+0200
TZOFFSETTO:+0100
TZNAME:CET
DTSTART:20251026T010000
END:STANDARD
BEGIN:DAYLIGHT
TZOFFSETFROM:+0100
TZOFFSETTO:+0200
TZNAME:CEST
DTSTART:20260329T010000
END:DAYLIGHT
BEGIN:STANDARD
TZOFFSETFROM:+0200
TZOFFSETTO:+0100
TZNAME:CET
DTSTART:20261025T010000
END:STANDARD
BEGIN:DAYLIGHT
TZOFFSETFROM:+0100
TZOFFSETTO:+0200
TZNAME:CEST
DTSTART:20270328T010000
END:DAYLIGHT
BEGIN:STANDARD
TZOFFSETFROM:+0200
TZOFFSETTO:+0100
TZNAME:CET
DTSTART:20271031T010000
END:STANDARD
END:VTIMEZONE
BEGIN:VEVENT
DTSTART;TZID=Europe/Berlin:20260513T190000
DTEND;TZID=Europe/Berlin:20260513T190000
DTSTAMP:20260421T142109
CREATED:20260328T052004Z
LAST-MODIFIED:20260330T130013Z
UID:3335-1778698800-1778698800@ideentasche.de
SUMMARY:Ausstellung | „Ist das Schrift oder kann das Kunst?“
DESCRIPTION:Die Schriftkünstlerin Christiane Hermann ist gelernte Technische Zeichnerin – am Brett\, von Hand\, mit Tusche. Während Ihrer Ausbildung konnte sie erste Erfahrungen in genormten Schrift sammeln. Ihre Begeisterung für das Arbeiten mit Tusche im Zusammenhang mit der Schriftkunst entdeckte sie 2012 völlig neu.  \n\n\n\nNach einem Fernstudium in Kalligrafie und Grafikdesign sowie zahlreichen Kursen\, ist sie heute als Kalligrafin und Dozentin unter dem Namen „Ideentasche“ tätig. \n\n\n\nIn ihren Arbeiten verbindet sie handwerkliche Präzision mit experimenteller Gestaltung. Ihre Ausstellung „Schrift oder Kunst?“ gibt Einblicke in unterschiedliche kalligrafische Arbeitsweisen: Handlettering\, Handschrift oder klassische Kalligrafie zeigen die Vielfalt der Techniken. \n\n\n\nGeschrieben wird mit allem\, was Farbe aufnehmen kann – etwa Balsaholz\, Colafeder\, Rulingpen\, Schreibfedern oder Schilf. Manche Werkzeuge werden eigens bearbeitet\, andere saugen die Farbe direkt auf. So entstehenexperimentelle Unikate – sogenannte Schriftbilder. Mal steht die Lesbarkeit im Vordergrund\, mal allein die Wirkung der Schrift. \n\n\n\nDie Vernissage findet am 13. Mai 2026 um 19:00 Uhr in den Räumen der VHS in Stockach statt. Alle Kunst- und Schriftliebhaber sind dazu eingeladen.
URL:https://ideentasche.de/events/ausstellung-schrift-oder-kunst/
LOCATION:VHS Stockach\, Hauptstr. 1\, Stockach\, 78333\, Deutschland
ATTACH;FMTTYPE=image/jpeg:https://ideentasche.de/wp-content/uploads/2026/03/IMG_8312-scaled.jpeg
END:VEVENT
END:VCALENDAR